BEGIN:VCALENDAR
VERSION:2.0
PRODID:-//CDA Alliance - ECPv6.15.20//NONSGML v1.0//EN
CALSCALE:GREGORIAN
METHOD:PUBLISH
X-ORIGINAL-URL:https://cdaalliance.ca
X-WR-CALDESC:Events for CDA Alliance
REFRESH-INTERVAL;VALUE=DURATION:PT1H
X-Robots-Tag:noindex
X-PUBLISHED-TTL:PT1H
BEGIN:VTIMEZONE
TZID:America/Vancouver
BEGIN:DAYLIGHT
TZOFFSETFROM:-0800
TZOFFSETTO:-0700
TZNAME:PDT
DTSTART:20220313T100000
END:DAYLIGHT
BEGIN:STANDARD
TZOFFSETFROM:-0700
TZOFFSETTO:-0800
TZNAME:PST
DTSTART:20221106T090000
END:STANDARD
BEGIN:DAYLIGHT
TZOFFSETFROM:-0800
TZOFFSETTO:-0700
TZNAME:PDT
DTSTART:20230312T100000
END:DAYLIGHT
BEGIN:STANDARD
TZOFFSETFROM:-0700
TZOFFSETTO:-0800
TZNAME:PST
DTSTART:20231105T090000
END:STANDARD
BEGIN:DAYLIGHT
TZOFFSETFROM:-0800
TZOFFSETTO:-0700
TZNAME:PDT
DTSTART:20240310T100000
END:DAYLIGHT
BEGIN:STANDARD
TZOFFSETFROM:-0700
TZOFFSETTO:-0800
TZNAME:PST
DTSTART:20241103T090000
END:STANDARD
END:VTIMEZONE
BEGIN:VTIMEZONE
TZID:UTC
BEGIN:STANDARD
TZOFFSETFROM:+0000
TZOFFSETTO:+0000
TZNAME:UTC
DTSTART:20220101T000000
END:STANDARD
END:VTIMEZONE
BEGIN:VEVENT
DTSTART;VALUE=DATE:20230309
DTEND;VALUE=DATE:20230312
DTSTAMP:20260417T010826
CREATED:20230215T081648Z
LAST-MODIFIED:20230215T081735Z
UID:10391-1678320000-1678579199@cdaalliance.ca
SUMMARY:Pacific Dental Conference
DESCRIPTION:Come find us on the trade show floor\, or drop by the BCDHA hang out room to enjoy some snacks sponsored by Crest/Oral B\, chat with staff\, board and colleagues\, and take a break from the busy day. \nMore events about PDC will be forthcoming as we get closer\, so stay tuned!
URL:https://cdaalliance.ca/events/pacific-dental-conference/
ATTACH;FMTTYPE=image/jpeg:https://cdaalliance.ca/wp-content/uploads/2023/02/PDC.jpg
END:VEVENT
BEGIN:VEVENT
DTSTART;TZID=UTC:20230306T190000
DTEND;TZID=UTC:20230306T190000
DTSTAMP:20260417T010826
CREATED:20230216T045727Z
LAST-MODIFIED:20230216T045805Z
UID:10416-1678129200-1678129200@cdaalliance.ca
SUMMARY:Special Fireside
DESCRIPTION:Join Sylvie Martel for a Fireside Chat on CDHA/Canada Dental Plan.
URL:https://cdaalliance.ca/events/special-fireside/
CATEGORIES:Fireside Chat
ATTACH;FMTTYPE=image/jpeg:https://cdaalliance.ca/wp-content/uploads/2023/02/BCDHA_FIRESIDE_WINTER.jpg
END:VEVENT
BEGIN:VEVENT
DTSTART;TZID=UTC:20230305T010000
DTEND;TZID=UTC:20230311T233000
DTSTAMP:20260417T010826
CREATED:20230215T081220Z
LAST-MODIFIED:20230215T081228Z
UID:10381-1677978000-1678577400@cdaalliance.ca
SUMMARY:CDA Recognition Week!
DESCRIPTION:Don’t forget to thank the CDAs in your workspace who play a major role in ensuring patients receive reliable\, accessible\, professional oral health care.  Stay tuned to the CDA Alliance site throughout the week to see the events and celebrations that are going on.
URL:https://cdaalliance.ca/events/cda-recognition-week/
ATTACH;FMTTYPE=image/jpeg:https://cdaalliance.ca/wp-content/uploads/2023/02/cda2.jpg
END:VEVENT
BEGIN:VEVENT
DTSTART;TZID=UTC:20230302T183000
DTEND;TZID=UTC:20230302T200000
DTSTAMP:20260417T010826
CREATED:20230216T054458Z
LAST-MODIFIED:20230216T054506Z
UID:10418-1677781800-1677787200@cdaalliance.ca
SUMMARY:Webinar:  Income Protection
DESCRIPTION:Join Paul Munnis\, CLU\, Member of Advocis and Financial Advisor at Haslett Financial Inc. for an educational session on Income Protection for the Dental Hygienist.  Paul will help participants understand the key elements of the financial planning process\, types of income protection\, factors that influence plan premiums\, and so much more. \nClick here to register\n 
URL:https://cdaalliance.ca/events/webinar-income-protection-2/
CATEGORIES:Webinar
ATTACH;FMTTYPE=image/png:https://cdaalliance.ca/wp-content/uploads/2023/02/Income_Protection.png
END:VEVENT
BEGIN:VEVENT
DTSTART;TZID=UTC:20230227T183000
DTEND;TZID=UTC:20230227T200000
DTSTAMP:20260417T010826
CREATED:20230209T030202Z
LAST-MODIFIED:20230215T080050Z
UID:10282-1677522600-1677528000@cdaalliance.ca
SUMMARY:Webinar: What to Look for in Employment Contracts
DESCRIPTION:Do I need an employment contract? What happens to my rights when I don’t have one? What are the main clauses of modern-day employment contracts\, and what do they mean to me? \nSpecialized employment lawyers from Samfiru Tumarkin LLP will answer these questions and more to help you be better prepared to negotiate your next employment contract and understand your current one. Have a lawyer answer your questions on non-competition clauses\, termination clauses\, how to make hours of work and schedule a fundamental term of your employment contract\, and the difference between an independent contractor contract and an employment contract. \nLia Moody \nLia Moody is the Managing Partner\, Vancouver and the Western Canada Practice Leader in the area of Employment Law at Samfiru Tumarkin LLP. She has successfully represented wrongfully dismissed employees before the BC and Ontario courts of appeal and in lower courts. She has represented employees in all disputes with their employers\, including wrongful dismissal\, human rights\, for cause terminations\, and constructive dismissal litigation. On top of managing the firm’s practice in Western Canada\, Lia is the head of the Firm’s Women in Law initiative. \nLluc Cerda \nLluc Cerda is the Managing Associate of the Alberta office of Samfiru Tumarkin LLP and specializes in Employment Law. He has appeared before all levels of Court in Ontario\, as well as in the Alberta King’s Bench and Provincial Court. Lluc has also appeared before the Ontario Human Rights Tribunal and Labour Relations Board\, as well as the Federal and Alberta Human Rights Commissions. Lluc offers legal services in both English and French. \nClick here to join
URL:https://cdaalliance.ca/events/special-fireside-employment-contracts/
CATEGORIES:Webinar
ATTACH;FMTTYPE=image/png:https://cdaalliance.ca/wp-content/uploads/2023/02/EMPLOYEE_RIGHTS.png
END:VEVENT
BEGIN:VEVENT
DTSTART;TZID=UTC:20230213T183000
DTEND;TZID=UTC:20230213T183000
DTSTAMP:20260417T010826
CREATED:20230204T020730Z
LAST-MODIFIED:20230204T021115Z
UID:10242-1676313000-1676313000@cdaalliance.ca
SUMMARY:WEBINAR: Infection Control for the Dental Office in a Post-COVID World with Dr. John Molinari
DESCRIPTION:BCDA and the BCDHA/CDA alliance invite you to join Dr. Salima Dadani\, BCDA Director\, Member Support and Shannon Wilson\, BCDHA Practice Advisor\, as they host Dr. John Molinari\, current Director of Infection Control for The Dental Advisor in Ann Arbor\, Michigan. \nIn this webinar\, Dr. Molinari will describe recent updates for provincial and federal infection control recommendations\, discuss governmental infection prevention modifications necessitated by the COVID-19 pandemic\, and highlight components of a comprehensive dental infection control program. \n\nClick here to register
URL:https://cdaalliance.ca/events/webinar-infection-control-for-the-dental-office-in-a-post-covid-world-with-dr-john-molinari/
CATEGORIES:Webinar
ATTACH;FMTTYPE=image/jpeg:https://cdaalliance.ca/wp-content/uploads/2023/02/WebinarStock.jpeg
END:VEVENT
END:VCALENDAR