BEGIN:VCALENDAR
VERSION:2.0
PRODID:-//CDA Alliance - ECPv6.15.20//NONSGML v1.0//EN
CALSCALE:GREGORIAN
METHOD:PUBLISH
X-WR-CALNAME:CDA Alliance
X-ORIGINAL-URL:https://cdaalliance.ca
X-WR-CALDESC:Events for CDA Alliance
REFRESH-INTERVAL;VALUE=DURATION:PT1H
X-Robots-Tag:noindex
X-PUBLISHED-TTL:PT1H
BEGIN:VTIMEZONE
TZID:America/Vancouver
BEGIN:DAYLIGHT
TZOFFSETFROM:-0800
TZOFFSETTO:-0700
TZNAME:PDT
DTSTART:20250309T100000
END:DAYLIGHT
BEGIN:STANDARD
TZOFFSETFROM:-0700
TZOFFSETTO:-0800
TZNAME:PST
DTSTART:20251102T090000
END:STANDARD
BEGIN:DAYLIGHT
TZOFFSETFROM:-0800
TZOFFSETTO:-0700
TZNAME:PDT
DTSTART:20260308T100000
END:DAYLIGHT
BEGIN:STANDARD
TZOFFSETFROM:-0700
TZOFFSETTO:-0800
TZNAME:PST
DTSTART:20261101T090000
END:STANDARD
BEGIN:DAYLIGHT
TZOFFSETFROM:-0800
TZOFFSETTO:-0700
TZNAME:PDT
DTSTART:20270314T100000
END:DAYLIGHT
BEGIN:STANDARD
TZOFFSETFROM:-0700
TZOFFSETTO:-0800
TZNAME:PST
DTSTART:20271107T090000
END:STANDARD
END:VTIMEZONE
BEGIN:VEVENT
DTSTART;TZID=America/Vancouver:20260507T183000
DTEND;TZID=America/Vancouver:20260507T183000
DTSTAMP:20260416T151128
CREATED:20251105T231234Z
LAST-MODIFIED:20251106T063553Z
UID:16410-1778178600-1778178600@cdaalliance.ca
SUMMARY:Curves Ahead: Successful Implementation of Left and Right Ultrasonic Instruments
DESCRIPTION:Curved left and right ultrasonic instruments have distinct traits that disrupt and remove biofilm\, surpassing the capabilities of other instruments. In this session\, Dani will ignite your enthusiasm and strengthen your clinical knowledge as she guides you on how this unique technology can and should be an integral part of debridement procedures. This webinar aims to provide an interactive experience from the comfort and convenience of your own home. Via a specialized camera\, Dani incorporates live demonstrations and if a typodont and curved inserts are available\, participants are encouraged to follow along. \nObjectives: \n\nExamine the clinical benefits of curved left and right ultrasonic instruments over straight ultrasonic instruments and hand instruments.\nDiscuss how incorporating curved ultrasonic instruments into periodontal debridement procedures can enhance your patient’s comfort.\nExplain how to adapt a variety of surfaces of curved instruments in furcations\, concavities and at the CEJ.\n\nAbout the Speaker\nDani Botbyl is an educator\, author\, and award winning researcher and has been a trailblazer for the advancement of ultrasonic technology in dental hygiene practice and education in North America. She is credited with leading the first team of researchers to investigate the topic of ultrasonic instrumentation education in dental hygiene programs with culmination of her knowledge and research producing multiple publications in industry and peer-reviewed journals and textbooks. Most recently\, Dani co-authored the second edition of Ultrasonic Periodontal Debridement: Theory and Technique (2024) and is a contributing author to the sixth edition of Darby and Walsh Dental Hygiene Theory and Practice (2025). Dani has presented hundreds of evidence-based programs to dental hygiene students\, faculty and practicing clinicians worldwide\, served as the National Clinical Educator with Dentsply Sirona 2000-2023 and held a faculty position at Niagara College of Applied Arts and Technology in Welland\, Ontario Canada for over a decade. Dani’s passion for enhancing the practice of dental hygiene create learning experiences that are not to be missed! \nContinuing Education Categories\n\nC1-Head\, neck\, oral and dental anatomy\nC4-General & oral pathology\nD2-Periodontology-including assessment\, diagnosis\nD3-Non-surgical dental hygiene therapy-including instrumentation (hand and powered) and ergonomics\n\nREGISTER HERE
URL:https://cdaalliance.ca/events/bcdha-and-adha-webinar-curves-ahead-successful-implementation-of-left-and-right-ultrasonic-instruments/
CATEGORIES:Webinar
ATTACH;FMTTYPE=image/jpeg:https://cdaalliance.ca/wp-content/uploads/2025/11/Botbyl-Headshot-2023-t.jpg
END:VEVENT
BEGIN:VEVENT
DTSTART;TZID=America/Vancouver:20260514T183000
DTEND;TZID=America/Vancouver:20260514T183000
DTSTAMP:20260416T151128
CREATED:20250821T221729Z
LAST-MODIFIED:20250821T221736Z
UID:16060-1778783400-1778783400@cdaalliance.ca
SUMMARY:Strategic Instrument Selection Part 1
DESCRIPTION:Save the date! Full details will be posted soon. \nYou will receive your Continuing Education certificate within 48 hours of the live event. Please keep it for your records; replacement copies cost $10.
URL:https://cdaalliance.ca/events/strategic-instrument-selection-part-1/
CATEGORIES:Webinar
END:VEVENT
BEGIN:VEVENT
DTSTART;TZID=America/Vancouver:20260521T183000
DTEND;TZID=America/Vancouver:20260521T183000
DTSTAMP:20260416T151128
CREATED:20250821T221751Z
LAST-MODIFIED:20250821T221751Z
UID:16061-1779388200-1779388200@cdaalliance.ca
SUMMARY:Strategic Instrument Selection Part 2
DESCRIPTION:Save the date! Full details will be posted soon. \nYou will receive your Continuing Education certificate within 48 hours of the live event. Please keep it for your records; replacement copies cost $10.
URL:https://cdaalliance.ca/events/strategic-instrument-selection-part-2/
CATEGORIES:Webinar
END:VEVENT
END:VCALENDAR