BEGIN:VCALENDAR
VERSION:2.0
PRODID:-//CDA Alliance - ECPv6.15.20//NONSGML v1.0//EN
CALSCALE:GREGORIAN
METHOD:PUBLISH
X-ORIGINAL-URL:https://cdaalliance.ca
X-WR-CALDESC:Events for CDA Alliance
REFRESH-INTERVAL;VALUE=DURATION:PT1H
X-Robots-Tag:noindex
X-PUBLISHED-TTL:PT1H
BEGIN:VTIMEZONE
TZID:America/Vancouver
BEGIN:DAYLIGHT
TZOFFSETFROM:-0800
TZOFFSETTO:-0700
TZNAME:PDT
DTSTART:20230312T100000
END:DAYLIGHT
BEGIN:STANDARD
TZOFFSETFROM:-0700
TZOFFSETTO:-0800
TZNAME:PST
DTSTART:20231105T090000
END:STANDARD
BEGIN:DAYLIGHT
TZOFFSETFROM:-0800
TZOFFSETTO:-0700
TZNAME:PDT
DTSTART:20240310T100000
END:DAYLIGHT
BEGIN:STANDARD
TZOFFSETFROM:-0700
TZOFFSETTO:-0800
TZNAME:PST
DTSTART:20241103T090000
END:STANDARD
BEGIN:DAYLIGHT
TZOFFSETFROM:-0800
TZOFFSETTO:-0700
TZNAME:PDT
DTSTART:20250309T100000
END:DAYLIGHT
BEGIN:STANDARD
TZOFFSETFROM:-0700
TZOFFSETTO:-0800
TZNAME:PST
DTSTART:20251102T090000
END:STANDARD
END:VTIMEZONE
BEGIN:VEVENT
DTSTART;TZID=America/Vancouver:20240617T183000
DTEND;TZID=America/Vancouver:20240617T183000
DTSTAMP:20260422T063858
CREATED:20240610T231418Z
LAST-MODIFIED:20240610T232917Z
UID:14640-1718649000-1718649000@cdaalliance.ca
SUMMARY:Proposed Bachelor of Science Dental Hygiene - Degree Completion Program
DESCRIPTION:Mandy Hayre is a dental hygiene practitioner\, educator and current Chair of Dental Programs at Camosun College. Mandy has been an educator and administration for almost 30 years. She started her teaching career at Malaspina University-College\, then started the Dental Hygiene Diploma program at Vancouver Island University in 2006\, and hopes to start a degree completion program at Camosun College. \nMandy is very passionate about the profession and has served on the board of the International Federation of Dental Hygiensists\, President of CDHA\, Chair of BCDHA\, and the exam committee of the NDHCB. She has been an examiner\, investigator\, and an assessor for the CDHBC; and on the board of the Commission on Dental Accreditation of Canada. Another passion for Mandy is addressing access to care issues. She was on the committee that started the first no-cost dental clinic in Nanaimo and the low cost dental clinic at Camosun College. She has also gone to rural and remote areas of BC to provide care to members that have limited access to care. \nShe is here today to speak to us about the proposed Bachelor of Science Dental Hygiene degree completion program that Camosun College hopes to offer.\nREGISTER HERE
URL:https://cdaalliance.ca/events/proposed-bachelor-of-science-dental-hygiene-degree-completion-program/
CATEGORIES:Fireside Chat
ATTACH;FMTTYPE=image/jpeg:https://cdaalliance.ca/wp-content/uploads/2023/02/BCDHA_FIRESIDE_WINTER.jpg
END:VEVENT
END:VCALENDAR