BEGIN:VCALENDAR
VERSION:2.0
PRODID:-//CDA Alliance - ECPv6.15.20//NONSGML v1.0//EN
CALSCALE:GREGORIAN
METHOD:PUBLISH
X-ORIGINAL-URL:https://cdaalliance.ca
X-WR-CALDESC:Events for CDA Alliance
REFRESH-INTERVAL;VALUE=DURATION:PT1H
X-Robots-Tag:noindex
X-PUBLISHED-TTL:PT1H
BEGIN:VTIMEZONE
TZID:America/Vancouver
BEGIN:DAYLIGHT
TZOFFSETFROM:-0800
TZOFFSETTO:-0700
TZNAME:PDT
DTSTART:20220313T100000
END:DAYLIGHT
BEGIN:STANDARD
TZOFFSETFROM:-0700
TZOFFSETTO:-0800
TZNAME:PST
DTSTART:20221106T090000
END:STANDARD
BEGIN:DAYLIGHT
TZOFFSETFROM:-0800
TZOFFSETTO:-0700
TZNAME:PDT
DTSTART:20230312T100000
END:DAYLIGHT
BEGIN:STANDARD
TZOFFSETFROM:-0700
TZOFFSETTO:-0800
TZNAME:PST
DTSTART:20231105T090000
END:STANDARD
BEGIN:DAYLIGHT
TZOFFSETFROM:-0800
TZOFFSETTO:-0700
TZNAME:PDT
DTSTART:20240310T100000
END:DAYLIGHT
BEGIN:STANDARD
TZOFFSETFROM:-0700
TZOFFSETTO:-0800
TZNAME:PST
DTSTART:20241103T090000
END:STANDARD
END:VTIMEZONE
BEGIN:VEVENT
DTSTART;TZID=America/Vancouver:20230710T183000
DTEND;TZID=America/Vancouver:20230710T183000
DTSTAMP:20260425T205438
CREATED:20230705T172102Z
LAST-MODIFIED:20230705T172323Z
UID:10879-1689013800-1689013800@cdaalliance.ca
SUMMARY:Special Fireside Chat with Brenda Isaac\, Dental Therapist
DESCRIPTION:Working with Indigenous Communities\nWith this chat we will cover the different environments and conditions dental therapists in BC must work with. \nBrenda Isaac is First Nations from Lytton\, BC. Belonging to the Nlhakapamux Nation. Part of the Interior Salish. Brenda retired from dental therapy with 28 years experience working with Indigenous communities. She graduated from the National School of Dental Therapy in 1978 when the school was still located in Fort Smith\, Northwest Territories. \nThroughout her career she has traveled extensively throughout the Northwest Territories\, Nunavut\, and British Columbia. Providing much needed oral health services in many underserved communities. \nFor the last 14 years Brenda specialized in working with children 0 to 7 years of age under the Children’s Oral Health Initiative. \nRegister today!
URL:https://cdaalliance.ca/events/special-fireside-chat-with-brenda-isaac-dental-therapist/
CATEGORIES:Fireside Chat
ATTACH;FMTTYPE=image/png:https://cdaalliance.ca/wp-content/uploads/2023/07/Brenda_Isaac.png
END:VEVENT
END:VCALENDAR