BEGIN:VCALENDAR
VERSION:2.0
PRODID:-//CDA Alliance - ECPv6.15.20//NONSGML v1.0//EN
CALSCALE:GREGORIAN
METHOD:PUBLISH
X-ORIGINAL-URL:https://cdaalliance.ca
X-WR-CALDESC:Events for CDA Alliance
REFRESH-INTERVAL;VALUE=DURATION:PT1H
X-Robots-Tag:noindex
X-PUBLISHED-TTL:PT1H
BEGIN:VTIMEZONE
TZID:America/Vancouver
BEGIN:DAYLIGHT
TZOFFSETFROM:-0800
TZOFFSETTO:-0700
TZNAME:PDT
DTSTART:20230312T100000
END:DAYLIGHT
BEGIN:STANDARD
TZOFFSETFROM:-0700
TZOFFSETTO:-0800
TZNAME:PST
DTSTART:20231105T090000
END:STANDARD
BEGIN:DAYLIGHT
TZOFFSETFROM:-0800
TZOFFSETTO:-0700
TZNAME:PDT
DTSTART:20240310T100000
END:DAYLIGHT
BEGIN:STANDARD
TZOFFSETFROM:-0700
TZOFFSETTO:-0800
TZNAME:PST
DTSTART:20241103T090000
END:STANDARD
BEGIN:DAYLIGHT
TZOFFSETFROM:-0800
TZOFFSETTO:-0700
TZNAME:PDT
DTSTART:20250309T100000
END:DAYLIGHT
BEGIN:STANDARD
TZOFFSETFROM:-0700
TZOFFSETTO:-0800
TZNAME:PST
DTSTART:20251102T090000
END:STANDARD
END:VTIMEZONE
BEGIN:VEVENT
DTSTART;TZID=America/Vancouver:20240523T183000
DTEND;TZID=America/Vancouver:20240523T183000
DTSTAMP:20260422T050414
CREATED:20240507T204648Z
LAST-MODIFIED:20240507T204851Z
UID:14563-1716489000-1716489000@cdaalliance.ca
SUMMARY:Fireside Chat: Edge Extended Health and Dental Benefits Information Session
DESCRIPTION:The objective is to educate members on the benefits that are available from Edge Benefits and to help answer any questions to ensure everyone is comfortable with the plans and process by answering any all inquires. \nSpeaker: Aidan Mackenzie \nI joined the Edge Benefits in 2004 and have dedicated my time with this organization educating as many business owners and employees without benefits on the importance of protecting themselves and their lifestyles against the unexpected events in life. I had spent 10 years on the sales side within the organization before moving into management where I remain today. When not working I spend my time with my young family and mange to play the occasional round of golf. \nREGISTER HERE
URL:https://cdaalliance.ca/events/fireside-chat-edge-extended-health-and-dental-benefits-information-session/
CATEGORIES:Fireside Chat
ATTACH;FMTTYPE=image/jpeg:https://cdaalliance.ca/wp-content/uploads/2023/02/BCDHA_FIRESIDE_WINTER.jpg
END:VEVENT
END:VCALENDAR