BEGIN:VCALENDAR
VERSION:2.0
PRODID:-//CDA Alliance - ECPv6.15.20//NONSGML v1.0//EN
CALSCALE:GREGORIAN
METHOD:PUBLISH
X-ORIGINAL-URL:https://cdaalliance.ca
X-WR-CALDESC:Events for CDA Alliance
REFRESH-INTERVAL;VALUE=DURATION:PT1H
X-Robots-Tag:noindex
X-PUBLISHED-TTL:PT1H
BEGIN:VTIMEZONE
TZID:UTC
BEGIN:STANDARD
TZOFFSETFROM:+0000
TZOFFSETTO:+0000
TZNAME:UTC
DTSTART:20220101T000000
END:STANDARD
END:VTIMEZONE
BEGIN:VTIMEZONE
TZID:America/Vancouver
BEGIN:DAYLIGHT
TZOFFSETFROM:-0800
TZOFFSETTO:-0700
TZNAME:PDT
DTSTART:20220313T100000
END:DAYLIGHT
BEGIN:STANDARD
TZOFFSETFROM:-0700
TZOFFSETTO:-0800
TZNAME:PST
DTSTART:20221106T090000
END:STANDARD
BEGIN:DAYLIGHT
TZOFFSETFROM:-0800
TZOFFSETTO:-0700
TZNAME:PDT
DTSTART:20230312T100000
END:DAYLIGHT
BEGIN:STANDARD
TZOFFSETFROM:-0700
TZOFFSETTO:-0800
TZNAME:PST
DTSTART:20231105T090000
END:STANDARD
BEGIN:DAYLIGHT
TZOFFSETFROM:-0800
TZOFFSETTO:-0700
TZNAME:PDT
DTSTART:20240310T100000
END:DAYLIGHT
BEGIN:STANDARD
TZOFFSETFROM:-0700
TZOFFSETTO:-0800
TZNAME:PST
DTSTART:20241103T090000
END:STANDARD
END:VTIMEZONE
BEGIN:VEVENT
DTSTART;TZID=UTC:20230612T183000
DTEND;TZID=UTC:20230612T183000
DTSTAMP:20260425T205136
CREATED:20230216T043441Z
LAST-MODIFIED:20230612T193552Z
UID:10411-1686594600-1686594600@cdaalliance.ca
SUMMARY:Special Fireside: Accessibility and Oral Health
DESCRIPTION:The Fireside will be a presentation by the Rick Hansen Foundation on accessibility. BCDHA employment lawyer Lia Moody will also present on human rights and accessibility at work. \nClick here to register
URL:https://cdaalliance.ca/events/special-fireside-lia-moody-rick-hansen-practice-owner/
CATEGORIES:Fireside Chat
ATTACH;FMTTYPE=image/jpeg:https://cdaalliance.ca/wp-content/uploads/2023/02/BCDHA_FIRESIDE_WINTER.jpg
END:VEVENT
BEGIN:VEVENT
DTSTART;TZID=America/Vancouver:20230626T190000
DTEND;TZID=America/Vancouver:20230626T190000
DTSTAMP:20260425T205136
CREATED:20230426T220705Z
LAST-MODIFIED:20230613T222350Z
UID:10665-1687806000-1687806000@cdaalliance.ca
SUMMARY:Special Fireside Chat: Billing and Documentation Pitfalls
DESCRIPTION:Please join Dr. Salima Dadani\, BCDA Director of Member Services and Shannon Wilson\, BCDHA Practice and Education Manager\, CDA Alliance Lead\, as they discuss joint billing and documentation concerns. There will be a short Q&A period at the end of the presentation. This event is open to BCDHA and CDA Alliance members and requires registration before the event. \nDr. Salima Dadani’s Bio \nDr. Dadani’s journey in dentistry over the last 22 years has included being an Associate\, practice owner\, and owner of an innovative business that brings the dental clinic to patients who can no longer get to their traditional dentist. Dr. Dadani is currently a Director\, Member Support with BCDA and has a strong commitment to volunteering\, including serving on BCDA’s Geriatric Dentistry Committee. \nClick here to register
URL:https://cdaalliance.ca/events/special-fireside-clear-on-codes/
CATEGORIES:Fireside Chat
ATTACH;FMTTYPE=image/jpeg:https://cdaalliance.ca/wp-content/uploads/2023/02/BCDHA_FIRESIDE_WINTER.jpg
END:VEVENT
END:VCALENDAR